BEGIN:VCALENDAR
VERSION:2.0
PRODID:-//Experience Pottery - ECPv6.15.20//NONSGML v1.0//EN
CALSCALE:GREGORIAN
METHOD:PUBLISH
X-ORIGINAL-URL:https://experiencepottery.com
X-WR-CALDESC:Events for Experience Pottery
REFRESH-INTERVAL;VALUE=DURATION:PT1H
X-Robots-Tag:noindex
X-PUBLISHED-TTL:PT1H
BEGIN:VTIMEZONE
TZID:America/New_York
BEGIN:DAYLIGHT
TZOFFSETFROM:-0500
TZOFFSETTO:-0400
TZNAME:EDT
DTSTART:20250309T070000
END:DAYLIGHT
BEGIN:STANDARD
TZOFFSETFROM:-0400
TZOFFSETTO:-0500
TZNAME:EST
DTSTART:20251102T060000
END:STANDARD
BEGIN:DAYLIGHT
TZOFFSETFROM:-0500
TZOFFSETTO:-0400
TZNAME:EDT
DTSTART:20260308T070000
END:DAYLIGHT
BEGIN:STANDARD
TZOFFSETFROM:-0400
TZOFFSETTO:-0500
TZNAME:EST
DTSTART:20261101T060000
END:STANDARD
BEGIN:DAYLIGHT
TZOFFSETFROM:-0500
TZOFFSETTO:-0400
TZNAME:EDT
DTSTART:20270314T070000
END:DAYLIGHT
BEGIN:STANDARD
TZOFFSETFROM:-0400
TZOFFSETTO:-0500
TZNAME:EST
DTSTART:20271107T060000
END:STANDARD
END:VTIMEZONE
BEGIN:VEVENT
DTSTART;TZID=America/New_York:20260409T160000
DTEND;TZID=America/New_York:20260409T180000
DTSTAMP:20260423T141253
CREATED:20260314T030335Z
LAST-MODIFIED:20260406T163605Z
UID:10000113-1775750400-1775757600@experiencepottery.com
SUMMARY:Clay + Coffee: Spring Mug Night in Retro Cafe Scranton
DESCRIPTION:Clay + Coffee: Spring Mug Night in Retro Cafe Scranton\nSpring vibes + a cozy cafe + a mug you made with your own two hands? Yes please.\nJoin Experience Pottery at Retro Cafe in Scranton\, PA for a Spring Inspired Coffee Mug Pottery Experience using beginner-friendly hand-building techniques. \nYour Experience Cost: $55.00 per person \n(Includes materials and process: clay experience\, paint/glazing\, and firing) \n✨ What Happens Next With Your Creation ✨ \n🎨 Finishing Process • Your pieces will journey to our professional studio • Our artisans will carefully glaze and fire your creation • Each piece receives special attention to ensure lasting quality \n📦 Easy Pick-Up • Return to the same venue in 3-4 weeks • We’ll notify you when your piece is ready • Pick up your finished masterpiece where the magic began! \n🏆 Quality You Can Trust • 100% food and liquid safe • Microwave friendly • Dishwasher safe • Built to last for years of enjoyment \nBefore and During the Event: \n– Arrive 10 minutes before your scheduled time and check in with us.\n– Wear clothing and shoes that can get dirty.\n– Remove jewelry from wrists and fingers before starting.\n– A full menu will be available for purchase\, and you can eat and drink during your experience. \nAfter the Event: \n– Your pieces will be taken to our studio to be glazed and fired.\n– Finished pieces will be microwave\, dishwasher\, food\, and liquid safe.\n– Pieces will be delivered back to the venue where you created your pottery within 3-4 weeks. \nImportant Details to Keep in Mind: \n– Each piece will be unique in shape and size.\n– Our team will guide you through the process\, but pottery can be unpredictable.\n– There’s a small chance that your piece might not survive the drying\, transportation\, or firing process. If this happens\, our skilled artisan will create a new piece for you.\n– In this event\, you’ll be using hand-building techniques to create your pottery\, which means you’ll be shaping and molding the clay with your hands\, rather than using a potter’s wheel. \nCancellation Policy: \nIf you need to cancel your ticket\, please contact us at experiencepottery@outlook.com / (607) 414 2062 at least 7 days prior to the event date. \n\nCancellations received within the specified time frame will be eligible for a full refund.\nCancellations received after the specified time frame will not be eligible for a refund.\nIf you are unable to attend you can transfer your ticket to a friend. Please send an email to experiencepottery@outlook.com or text us (607) 414 2062 to provide the name of the person attending.\nRead our full cancellation policy here >>> https://experiencepottery.com/cancellation-policy/\nBy purchasing a ticket\, you agree to this cancellation and refund policy.\n\nContact Us: \n– Website: www.experiencepottery.com\n– Email: experiencepottery@outlook.com\n– Phone: (607) 414-2062 \nLet’s get creative and have fun! \n\n\n\n \nTickets\nThe numbers below include tickets for this event already in your cart. Clicking “Get Tickets” will allow you to edit any existing attendee information as well as change ticket quantities.\nClay + Coffee: Spring Mug Night in Retro Cafe Scranton 4/9 4-6 pm\n$55.00\n15 available\n\nDecrease ticket quantity for Clay + Coffee: Spring Mug Night in Retro Cafe Scranton 4/9 4-6 pm\n–\n\nQuantity \n\n\nIncrease ticket quantity for Clay + Coffee: Spring Mug Night in Retro Cafe Scranton 4/9 4-6 pm\n+\n\nQuantity:\n0\nTotal:\n$0.00\nGet Tickets \n\nDETAILS AND VENUE\nApril 9\n@\n4:00 pm\n–\n6:00 pm \n\nThe Retro Cafe \n1139 Capouse Ave\,Scranton\,\nPA\n18509\nUnited States \n\n+ Google Map \n\n(570) 862-2328  \nView Venue Website \n\n \nORGANIZER\n\nExperience Pottery \n\n607 414 2062  \nView Organizer Website \n\nexperiencepottery@outlook.com  \nRelated Events\n\n\n  \n\nWheel Throwing Pottery Date @Armetta’s Restaurant & Pizzeria \nApril 4 @ 1:00 pm – 6:00 pm\n\n  \n\nBloom & Build: Hand-Built Flower Vase Night @ Wired & Inspired \nApril 23 @ 6:00 pm – 8:00 pm\n\n  \n\nPottery Experience Gift Card \nDecember 31\n\nInvite a friend\, Invite them all!\nFacebook\nThreads\nPinterest\nLinkedIn\nX\nEmail
URL:https://experiencepottery.com/event/clay-coffee-spring-mug-night-in-retro-cafe-scranton/
LOCATION:The Retro Cafe\, 1139 Capouse Ave\,\, Scranton\, PA\, 18509\, United States
CATEGORIES:Family Fun Experience,Hand-Building Techniques,Make your Own Pottery
ATTACH;FMTTYPE=image/webp:https://experiencepottery.com/wp-content/uploads/2026/03/2.webp
ORGANIZER;CN="Experience Pottery":MAILTO:experiencepottery@outlook.com
END:VEVENT
END:VCALENDAR