BEGIN:VCALENDAR
VERSION:2.0
PRODID:-//Experience Pottery - ECPv6.15.20//NONSGML v1.0//EN
CALSCALE:GREGORIAN
METHOD:PUBLISH
X-ORIGINAL-URL:https://experiencepottery.com
X-WR-CALDESC:Events for Experience Pottery
REFRESH-INTERVAL;VALUE=DURATION:PT1H
X-Robots-Tag:noindex
X-PUBLISHED-TTL:PT1H
BEGIN:VTIMEZONE
TZID:America/New_York
BEGIN:DAYLIGHT
TZOFFSETFROM:-0500
TZOFFSETTO:-0400
TZNAME:EDT
DTSTART:20220313T070000
END:DAYLIGHT
BEGIN:STANDARD
TZOFFSETFROM:-0400
TZOFFSETTO:-0500
TZNAME:EST
DTSTART:20221106T060000
END:STANDARD
BEGIN:DAYLIGHT
TZOFFSETFROM:-0500
TZOFFSETTO:-0400
TZNAME:EDT
DTSTART:20230312T070000
END:DAYLIGHT
BEGIN:STANDARD
TZOFFSETFROM:-0400
TZOFFSETTO:-0500
TZNAME:EST
DTSTART:20231105T060000
END:STANDARD
BEGIN:DAYLIGHT
TZOFFSETFROM:-0500
TZOFFSETTO:-0400
TZNAME:EDT
DTSTART:20240310T070000
END:DAYLIGHT
BEGIN:STANDARD
TZOFFSETFROM:-0400
TZOFFSETTO:-0500
TZNAME:EST
DTSTART:20241103T060000
END:STANDARD
END:VTIMEZONE
BEGIN:VEVENT
DTSTART;TZID=America/New_York:20230514T130000
DTEND;TZID=America/New_York:20230514T143000
DTSTAMP:20260424T000300
CREATED:20230423T150952Z
LAST-MODIFIED:20230507T193840Z
UID:10000013-1684069200-1684074600@experiencepottery.com
SUMMARY:Paint Your Own Pottery Beer Stein @Groove Brewing
DESCRIPTION:Celebrate Mother’s Day with Experience Pottery in a down to Earth brewery wirh a super cool ambiance and paint your own Pottery Beer Stein! \nPaint Your Own Pottery allows you create a one-of-a-kind hand-painted pottery masterpiece! \nCreate memories you can keep! \nSurprise mom with a special celebration that will be talked about for years to come as you enjoy your pottery “souvenir” of the occasion. \nThis is how it works: \n  \nDrinks available for purchase at the Brewery! \nHave some creative fun designing\, painting\, and decorating your own 16 oz Beer Stein Pottery! \nAt the end of the evening\, pieces will be taken to our studio to get fired! \nFinished pieces will be delivered back to Groove Brewing for pick up (please allow 2-4 weeks for processing). \nYour finished pottery will be microwave/ dishwasher/ food/ liquid safe! \nYour Experience Cost: $50.00 per person (Includes materials and process: paint your own pottery experience\, paint/glazing\, and firing. \nCancellation Policy: \nDue to limited seating\, we request that you cancel at least 2 days before a scheduled class. Cancellations made within this period will receive a 50% refund. Cancellations made after that are nonrefundable. You may cancel by phone or email to experiencepottery@outlook.com / (607) 414 2062 \nIf you are unable to attend\, you can transfer your ticket to a friend. \nQuestions? \nEmail us or call us! \nexperiencepottery@outlook.com / (607) 414 2062
URL:https://experiencepottery.com/event/1466/
LOCATION:Groove Brewing\, 1401 Sanderson Ave\, Scranton\, PA\, 18509\, United States
CATEGORIES:Paint your own Pottery
ATTACH;FMTTYPE=image/png:https://experiencepottery.com/wp-content/uploads/2023/04/png_20230422_153126_0000.png
ORGANIZER;CN="Experience Pottery":MAILTO:experiencepottery@outlook.com
END:VEVENT
BEGIN:VEVENT
DTSTART;TZID=America/New_York:20230511T183000
DTEND;TZID=America/New_York:20230511T200000
DTSTAMP:20260424T000300
CREATED:20230415T012805Z
LAST-MODIFIED:20230504T012008Z
UID:10000008-1683829800-1683835200@experiencepottery.com
SUMMARY:Paint your own Pottery Terra Cotta Salsa Bowl at Jalapeño Authentic Mexican Grill
DESCRIPTION:Let’s celebrate Mother’s Day with a Mexican Paint your own Pottery Party that children and adults will enjoy! \nPaint Your Own Pottery allows you create a one-of-a-kind hand-painted pottery masterpiece! \nCreate memories you can keep! \nSurprise mom with a special celebration that will be talked about for years to come as you enjoy your pottery “souvenir” of the occasion. \nThis is how it works: \nEnjoy a delicious appetizer from Jalapeño Authentic Mexican Grill (included in the price of your ticket)\, \nAdditional snacks and drinks available for purchase at the restaurant! \nThis is a BYOB event. \nHave some creative fun designing\, painting\, and decorating your own Salsa Bowl in beautiful Handcrafted Terra Cotta Pottery. \nAt the end of the evening\, pieces will be taken to our studio to get fired! \nFinished pieces will be delivered back to Jalapeño Authentic Mexican Grill for pick up (please allow 2-4 weeks for processing). \nYour finished pottery will be microwave/ dishwasher/ food/ liquid safe! \nYour Experience Cost: $50.00 per person (Includes materials and process: paint your own pottery experience\, paint/glazing\, and firing + one appetizer (TBA) \nCancellation Policy: \nDue to limited seating\, we request that you cancel at least 2 days before a scheduled class. Cancellations made within this period will receive a 50% refund. Cancellations made after that are nonrefundable. You may cancel by phone or email to experiencepottery@outlook.com / (607) 414 2062 \nIf you are unable to attend\, you can transfer your ticket to a friend. \nQuestions? \nEmail us or call us! \nexperiencepottery@outlook.com / (607) 414 2062
URL:https://experiencepottery.com/event/paint-your-own-pottery-terra-cotta-salsa-bowl-at-jalapeno-authentic-mexican-grill/
LOCATION:Jalapeño Authentic Mexican Grill\, 914 Northern Blvd.\, Clarks Summit\, PA\, 18411\, United States
CATEGORIES:Paint your own Pottery
ATTACH;FMTTYPE=image/png:https://experiencepottery.com/wp-content/uploads/2023/04/PYOP-Mexican-1.png
ORGANIZER;CN="Experience Pottery":MAILTO:experiencepottery@outlook.com
END:VEVENT
END:VCALENDAR