BEGIN:VCALENDAR
VERSION:2.0
PRODID:-//Experience Pottery - ECPv6.15.20//NONSGML v1.0//EN
CALSCALE:GREGORIAN
METHOD:PUBLISH
X-WR-CALNAME:Experience Pottery
X-ORIGINAL-URL:https://experiencepottery.com
X-WR-CALDESC:Events for Experience Pottery
REFRESH-INTERVAL;VALUE=DURATION:PT1H
X-Robots-Tag:noindex
X-PUBLISHED-TTL:PT1H
BEGIN:VTIMEZONE
TZID:America/New_York
BEGIN:DAYLIGHT
TZOFFSETFROM:-0500
TZOFFSETTO:-0400
TZNAME:EDT
DTSTART:20220313T070000
END:DAYLIGHT
BEGIN:STANDARD
TZOFFSETFROM:-0400
TZOFFSETTO:-0500
TZNAME:EST
DTSTART:20221106T060000
END:STANDARD
BEGIN:DAYLIGHT
TZOFFSETFROM:-0500
TZOFFSETTO:-0400
TZNAME:EDT
DTSTART:20230312T070000
END:DAYLIGHT
BEGIN:STANDARD
TZOFFSETFROM:-0400
TZOFFSETTO:-0500
TZNAME:EST
DTSTART:20231105T060000
END:STANDARD
BEGIN:DAYLIGHT
TZOFFSETFROM:-0500
TZOFFSETTO:-0400
TZNAME:EDT
DTSTART:20240310T070000
END:DAYLIGHT
BEGIN:STANDARD
TZOFFSETFROM:-0400
TZOFFSETTO:-0500
TZNAME:EST
DTSTART:20241103T060000
END:STANDARD
END:VTIMEZONE
BEGIN:VEVENT
DTSTART;TZID=America/New_York:20231021T170000
DTEND;TZID=America/New_York:20231021T190000
DTSTAMP:20260423T234557
CREATED:20230806T203806Z
LAST-MODIFIED:20231026T231514Z
UID:10000025-1697907600-1697914800@experiencepottery.com
SUMMARY:Pottery Therapy: Make your Own Pottery Tea Cup @The Familiar Crystal/ Metaphysical Shop
DESCRIPTION:Make your Own Pottery Tea Cup / Saturday October 21st @5:00pm \nJoin Experience Pottery and Immerse yourself in an extraordinary journey where creativity meets tranquility. In this unique experience\, participants will embark on a captivating journey\, creating pottery with hand building techniques. \nPottery Therapy is an opportunity to embrace mindfulness\, wellness\, and our deep connection to nature. It is a practice that allows you to reconnect with yourself and the creative energy of the earth while you let your creative soul flow through your hands \nWe will begging our practice with a creative flow tapping meditation and continue our session with instruction on hand-building techniques to make your own pottery\, allowing you to fully immerse yourself in the tactile experience. \nThrough the art of using your hands to make your own pottery\, you’ll enter a state of mindfulness\, focusing solely on the present moment. \nAs you mold the clay and then design and decorate for your piece\, you will feel the therapeutic qualities of this ancient practice soothe your mind\, allowing stress and worries to melt away. \nDuring this practice we will allow time for awareness\, healing and transformation with guiding and insightful questions. \nWorkshop includes all materials to paint\, carve and/or decorate your beautiful creation. \nAt the end of the evening\, pieces will be taken to our studio to get fired. \nYour finished pottery will be microwave/ dishwasher/ food/ liquid safe! \nFinished pieces will be delivered back to The Familiar Crystal/ Metaphysical Shop for pick up (please allow 2-4 weeks for processing). \nJoin us on this transformative journey as we explore the intersection of art\, mindfulness\, and our primal connection to the Earth. Unleash your creativity\, embrace serenity\, and leave with a beautifully handcrafted  pottery piece that encapsulates the essence of your unique spirit. \n$65
URL:https://experiencepottery.com/event/pottery-therapy-make-your-own-pottery-tea-cup-the-familiar-crystal-metaphysical-shop/
LOCATION:The Familiar Crystal/ Metaphysical Shop\, 707 N Main ST\, Forest City\, PA\, 18421\, United States
CATEGORIES:Make your Own Pottery,Pottery for Wellness,Pottery Therapy
ATTACH;FMTTYPE=image/png:https://experiencepottery.com/wp-content/uploads/2023/08/Pottery-Therapy-Workshop-Experience-Pottery-2-1.png
ORGANIZER;CN="Experience Pottery":MAILTO:experiencepottery@outlook.com
END:VEVENT
BEGIN:VEVENT
DTSTART;TZID=America/New_York:20230910T113000
DTEND;TZID=America/New_York:20230910T133000
DTSTAMP:20260423T234557
CREATED:20230806T195859Z
LAST-MODIFIED:20230808T132212Z
UID:10000024-1694345400-1694352600@experiencepottery.com
SUMMARY:Pottery and Bottomless Mimosas @ Nearme Yoga
DESCRIPTION:Pottery and Mimosas / Sunday\, September 10th @ 11:30 am \nJoin Experience Pottery and Immerse yourself in an extraordinary journey where creativity meets tranquility. In this unique experience\, participants will embark on a captivating journey\, creating pottery with hand-building techniques. \nPottery Therapy is an opportunity to embrace mindfulness\, wellness\, and our deep connection to nature. It is a practice that allows you to reconnect with yourself and the creative energy of the earth while you let your creative soul flow through your hands \nWe will start our practice with a creative flow tapping meditation and continue our session with instruction on hand-building techniques to make your own pottery\, allowing you to fully immerse yourself in the tactile experience. \nThrough the art of using your hands to make your own pottery\, you’ll enter a state of mindfulness\, focusing solely on the present moment. \nAs you mold the clay and then design and decorate your piece\, you will feel the therapeutic qualities of this ancient practice soothe your mind\, allowing stress and worries to melt away. \nDuring this practice\, we will allow time for awareness\, healing\, and transformation with guiding and insightful questions. \nThe workshop includes all materials to paint\, carve and/or decorate your beautiful creation. \nAt the end of the evening\, pieces will be taken to our studio to get fired. \nYour finished pottery will be microwave/ dishwasher/ food/ liquid safe! \nFinished pieces will be delivered back to Near Me Yoga for pick up (please allow 2-4 weeks for processing). \nJoin us on this transformative journey as we explore the intersection of art\, mindfulness\, and our primal connection to the Earth. Unleash your creativity\, embrace serenity\, and leave with a beautifully handcrafted pottery piece that encapsulates the essence of your unique spirit. \n$65
URL:https://experiencepottery.com/event/pottery-and-botomless-mimosas-nearme-yoga/
LOCATION:Nearme Cafe\, 700 Main ST\, Moosic\, PA\, 18507\, United States
CATEGORIES:Make your Own Pottery,Pottery for Wellness,Pottery Therapy
ATTACH;FMTTYPE=image/png:https://experiencepottery.com/wp-content/uploads/2023/08/Pottery-Therapy-Workshop-Experience-Pottery.png
ORGANIZER;CN="Experience Pottery":MAILTO:experiencepottery@outlook.com
END:VEVENT
END:VCALENDAR