BEGIN:VCALENDAR
VERSION:2.0
PRODID:-//Experience Pottery - ECPv6.15.20//NONSGML v1.0//EN
CALSCALE:GREGORIAN
METHOD:PUBLISH
X-WR-CALNAME:Experience Pottery
X-ORIGINAL-URL:https://experiencepottery.com
X-WR-CALDESC:Events for Experience Pottery
REFRESH-INTERVAL;VALUE=DURATION:PT1H
X-Robots-Tag:noindex
X-PUBLISHED-TTL:PT1H
BEGIN:VTIMEZONE
TZID:America/New_York
BEGIN:DAYLIGHT
TZOFFSETFROM:-0500
TZOFFSETTO:-0400
TZNAME:EDT
DTSTART:20230312T070000
END:DAYLIGHT
BEGIN:STANDARD
TZOFFSETFROM:-0400
TZOFFSETTO:-0500
TZNAME:EST
DTSTART:20231105T060000
END:STANDARD
BEGIN:DAYLIGHT
TZOFFSETFROM:-0500
TZOFFSETTO:-0400
TZNAME:EDT
DTSTART:20240310T070000
END:DAYLIGHT
BEGIN:STANDARD
TZOFFSETFROM:-0400
TZOFFSETTO:-0500
TZNAME:EST
DTSTART:20241103T060000
END:STANDARD
BEGIN:DAYLIGHT
TZOFFSETFROM:-0500
TZOFFSETTO:-0400
TZNAME:EDT
DTSTART:20250309T070000
END:DAYLIGHT
BEGIN:STANDARD
TZOFFSETFROM:-0400
TZOFFSETTO:-0500
TZNAME:EST
DTSTART:20251102T060000
END:STANDARD
BEGIN:DAYLIGHT
TZOFFSETFROM:-0500
TZOFFSETTO:-0400
TZNAME:EDT
DTSTART:20260308T070000
END:DAYLIGHT
BEGIN:STANDARD
TZOFFSETFROM:-0400
TZOFFSETTO:-0500
TZNAME:EST
DTSTART:20261101T060000
END:STANDARD
END:VTIMEZONE
BEGIN:VEVENT
DTSTART;TZID=America/New_York:20250514T180000
DTEND;TZID=America/New_York:20250514T200000
DTSTAMP:20260423T194503
CREATED:20250407T143211Z
LAST-MODIFIED:20250501T164910Z
UID:10000084-1747245600-1747252800@experiencepottery.com
SUMMARY:Brews and Pottery @Benny Brewing Co.
DESCRIPTION:(more…)
URL:https://experiencepottery.com/event/brews-and-pottery-benny-brewing-co/
LOCATION:Benny Brewing Company\, 1429 Sans Souci Pkwy\, Wilkes-Barre\, PA\, 18706\, United States
CATEGORIES:Family Fun Experience,Hand-Building Techniques,Make your Own Pottery,Paint your own Pottery,Pottery for Wellness,Pottery Therapy,Romantic Pottery Experiences
ATTACH;FMTTYPE=image/png:https://experiencepottery.com/wp-content/uploads/2025/04/Brown-and-White-Elegant-Pottery-Workshop-Instagram-Post-1.png
ORGANIZER;CN="Experience Pottery":MAILTO:experiencepottery@outlook.com
END:VEVENT
BEGIN:VEVENT
DTSTART;TZID=America/New_York:20250424T180000
DTEND;TZID=America/New_York:20250424T200000
DTSTAMP:20260423T194504
CREATED:20250323T115628Z
LAST-MODIFIED:20250414T171926Z
UID:10000083-1745517600-1745524800@experiencepottery.com
SUMMARY:Pottery & Pinot @Case Quattro Winery
DESCRIPTION:(more…)
URL:https://experiencepottery.com/event/pottery-pinot-case-quattro-winery/
LOCATION:Case Quattro Winery\, 1542 Main St\,\, Peckville\, PA\, 18452\, United States
CATEGORIES:Family Fun Experience,Hand-Building Techniques,Make your Own Pottery,Paint your own Pottery,Pottery for Wellness,Pottery Therapy,Romantic Pottery Experiences
ATTACH;FMTTYPE=image/png:https://experiencepottery.com/wp-content/uploads/2025/03/Brown-and-White-Elegant-Pottery-Workshop-Instagram-Post_20250323_073541_0000.png
ORGANIZER;CN="Experience Pottery":MAILTO:experiencepottery@outlook.com
END:VEVENT
BEGIN:VEVENT
DTSTART;TZID=America/New_York:20250406T130000
DTEND;TZID=America/New_York:20250406T160000
DTSTAMP:20260423T194504
CREATED:20250305T143236Z
LAST-MODIFIED:20250403T011851Z
UID:10000082-1743944400-1743955200@experiencepottery.com
SUMMARY:Wheel Throwing Pottery Experience @Armetta's Restaurant & Pizzeria
DESCRIPTION:(more…)
URL:https://experiencepottery.com/event/wheel-throwing-pottery-experience-armettas-restaurant-pizzeria/
LOCATION:Armetta’s Restaurant and Pizzeria\, 329 Northern Blvd\, Chinchilla\,\, 18410\, United States
CATEGORIES:Experience the Potter's Wheel,Family Fun Experience,Make your Own Pottery,Paint your own Pottery,Pottery for Wellness,Pottery Therapy,Romantic Pottery Experiences
ATTACH;FMTTYPE=image/jpeg:https://experiencepottery.com/wp-content/uploads/2025/03/White-Terracotta-Doodle-Rajasthan-Pottery-Instagram-Post-840-x-840-px.jpg
ORGANIZER;CN="Experience Pottery":MAILTO:experiencepottery@outlook.com
END:VEVENT
BEGIN:VEVENT
DTSTART;TZID=America/New_York:20250330T130000
DTEND;TZID=America/New_York:20250330T150000
DTSTAMP:20260423T194504
CREATED:20250213T191323Z
LAST-MODIFIED:20250213T191323Z
UID:10000080-1743339600-1743346800@experiencepottery.com
SUMMARY:Pottery and Wine @Pisano Family Wines
DESCRIPTION:(more…)
URL:https://experiencepottery.com/event/pottery-and-wine-pisano-family-wines/
LOCATION:Pisano Family Wines\, 2112 STATE ROUTE 29 HWY\, Hunlock Creek\, 18621\, United States
CATEGORIES:Family Fun Experience,Hand-Building Techniques,Make your Own Pottery,Paint your own Pottery,Pottery for Wellness,Pottery Therapy,Romantic Pottery Experiences
ATTACH;FMTTYPE=image/png:https://experiencepottery.com/wp-content/uploads/2025/01/Copy-of-Pisano-Family-Wines-September.png
ORGANIZER;CN="Experience Pottery":MAILTO:experiencepottery@outlook.com
END:VEVENT
BEGIN:VEVENT
DTSTART;TZID=America/New_York:20250302T010000
DTEND;TZID=America/New_York:20250302T150000
DTSTAMP:20260423T194504
CREATED:20250119T225336Z
LAST-MODIFIED:20250120T011931Z
UID:10000077-1740877200-1740927600@experiencepottery.com
SUMMARY:Private Pottery Experience: Lisa Petz Photography (Hand Building Pottery)
DESCRIPTION:(more…)
URL:https://experiencepottery.com/event/private-pottery-experience-lisa-petz-photography-hand-building-pottery/
LOCATION:Lisa Petz Photography\, 53 Salem Ave.\, Carbondale\, PA\, 18407\, United States
CATEGORIES:Family Fun Experience,Hand-Building Techniques,Make your Own Pottery,Paint your own Pottery,Pottery for Wellness,Pottery Therapy,Private Experience,Romantic Pottery Experiences
ATTACH;FMTTYPE=image/png:https://experiencepottery.com/wp-content/uploads/2025/01/Copy-of-Wonderland-4-x-4-in.png
END:VEVENT
BEGIN:VEVENT
DTSTART;TZID=America/New_York:20250224T180000
DTEND;TZID=America/New_York:20250224T200000
DTSTAMP:20260423T194504
CREATED:20250123T193632Z
LAST-MODIFIED:20250223T213556Z
UID:10000078-1740420000-1740427200@experiencepottery.com
SUMMARY:Pottery Experience @Leunes Bar and Lounge Honesdale
DESCRIPTION:(more…)
URL:https://experiencepottery.com/event/pottery-experience-leunes-bar-and-lounge-honesdale/
LOCATION:Leunes’ Bar and Lounge\, 913 Main St\,\, Honesdale\, PA\, 18431\, United States
CATEGORIES:Family Fun Experience,Hand-Building Techniques,Make your Own Pottery,Paint your own Pottery,Pottery for Wellness,Pottery Therapy,Romantic Pottery Experiences
ATTACH;FMTTYPE=image/jpeg:https://experiencepottery.com/wp-content/uploads/2025/01/Leunes.jpg
ORGANIZER;CN="Experience Pottery":MAILTO:experiencepottery@outlook.com
END:VEVENT
BEGIN:VEVENT
DTSTART;TZID=America/New_York:20250216T130000
DTEND;TZID=America/New_York:20250216T160000
DTSTAMP:20260423T194504
CREATED:20250108T014742Z
LAST-MODIFIED:20250205T154818Z
UID:10000076-1739710800-1739721600@experiencepottery.com
SUMMARY:Wheel Throwing Pottery Party @Armetta's Restaurant & Pizzeria
DESCRIPTION:(more…)
URL:https://experiencepottery.com/event/wheel-throwing-pottery-party-armettas-restaurant-pizzeria/
LOCATION:Armetta’s Restaurant and Pizzeria\, 329 Northern Blvd\, Chinchilla\,\, 18410\, United States
CATEGORIES:Experience the Potter's Wheel,Family Fun Experience,Make your Own Pottery,Paint your own Pottery,Pottery for Wellness,Pottery Therapy,Romantic Pottery Experiences
ATTACH;FMTTYPE=image/jpeg:https://experiencepottery.com/wp-content/uploads/2025/01/Armettas.jpg
ORGANIZER;CN="Experience Pottery":MAILTO:experiencepottery@outlook.com
END:VEVENT
BEGIN:VEVENT
DTSTART;TZID=America/New_York:20250215T130000
DTEND;TZID=America/New_York:20250215T160000
DTSTAMP:20260423T194504
CREATED:20250103T014105Z
LAST-MODIFIED:20250126T164528Z
UID:10000075-1739624400-1739635200@experiencepottery.com
SUMMARY:Wheel Throwing Pottery Party @Breaker Brewing Outpost
DESCRIPTION:(more…)
URL:https://experiencepottery.com/event/wheel-throwing-pottery-party-breaker-brewing-outpost-3/
LOCATION:Breaker Brewing Outpost – Archbald\, 192 Wildcat Rd\,\, Archbald\, PA\, 18403\, United States
CATEGORIES:Experience the Potter's Wheel,Family Fun Experience,Make your Own Pottery,Paint your own Pottery,Pottery for Wellness,Pottery Therapy,Romantic Pottery Experiences
ATTACH;FMTTYPE=image/png:https://experiencepottery.com/wp-content/uploads/2025/01/MountainTop-Pub-3.png
ORGANIZER;CN="Experience Pottery":MAILTO:experiencepottery@outlook.com
END:VEVENT
BEGIN:VEVENT
DTSTART;TZID=America/New_York:20250202T130000
DTEND;TZID=America/New_York:20250202T150000
DTSTAMP:20260423T194504
CREATED:20250102T223158Z
LAST-MODIFIED:20250201T013950Z
UID:10000074-1738501200-1738508400@experiencepottery.com
SUMMARY:Clay & Pottery Date Night @Breaker Brewing Company
DESCRIPTION:(more…)
URL:https://experiencepottery.com/event/breaker-brewing-co/
LOCATION:Breaker Brewing Company\, 787 E Northampton St\, Wilkes-Barre Township\, PA\, 18702\, United States
CATEGORIES:Family Fun Experience,Hand-Building Techniques,Make your Own Pottery,Paint your own Pottery,Pottery for Wellness,Pottery Therapy,Romantic Pottery Experiences
ATTACH;FMTTYPE=image/jpeg:https://experiencepottery.com/wp-content/uploads/2025/01/breaker-Brewing-Co.jpg
ORGANIZER;CN="Experience Pottery":MAILTO:experiencepottery@outlook.com
END:VEVENT
BEGIN:VEVENT
DTSTART;TZID=America/New_York:20241124T130000
DTEND;TZID=America/New_York:20241124T160000
DTSTAMP:20260423T194504
CREATED:20240925T134208Z
LAST-MODIFIED:20241123T202525Z
UID:10000067-1732453200-1732464000@experiencepottery.com
SUMMARY:Wheel Throwing Pottery Party @Breaker Brewing Outpost
DESCRIPTION:(more…)
URL:https://experiencepottery.com/event/wheel-throwing-pottery-party-breaker-brewing-outpost-2/
LOCATION:Breaker Brewing Outpost – Archbald\, 192 Wildcat Rd\,\, Archbald\, PA\, 18403\, United States
CATEGORIES:Experience the Potter's Wheel,Family Fun Experience,Make your Own Pottery,Paint your own Pottery,Pottery for Wellness,Pottery Therapy,Romantic Pottery Experiences
ATTACH;FMTTYPE=image/jpeg:https://experiencepottery.com/wp-content/uploads/2024/09/Copy-of-Pottery-at-Breaker-1-1.jpg
ORGANIZER;CN="Experience Pottery":MAILTO:experiencepottery@outlook.com
END:VEVENT
BEGIN:VEVENT
DTSTART;TZID=America/New_York:20241117T130000
DTEND;TZID=America/New_York:20241117T150000
DTSTAMP:20260423T194504
CREATED:20240925T174835Z
LAST-MODIFIED:20240925T174913Z
UID:10000068-1731848400-1731855600@experiencepottery.com
SUMMARY:Pottery Party @Mountaintop Pub & Eatery
DESCRIPTION:(more…)
URL:https://experiencepottery.com/event/pottery-party-mountaintop-pub-eatery/
LOCATION:Mountaintop Pub & Eatery\, 371 S Mountain Blvd\,\, Mountain Top\,\, p\, 18707\, United States
CATEGORIES:Family Fun Experience,Hand-Building Techniques,Make your Own Pottery,Paint your own Pottery,Pottery for Wellness,Pottery Therapy,Romantic Pottery Experiences
ATTACH;FMTTYPE=image/jpeg:https://experiencepottery.com/wp-content/uploads/2024/09/Porkiez-Hand-Building-1.jpg
ORGANIZER;CN="Experience Pottery":MAILTO:experiencepottery@outlook.com
END:VEVENT
BEGIN:VEVENT
DTSTART;TZID=America/New_York:20241109T170000
DTEND;TZID=America/New_York:20241109T200000
DTSTAMP:20260423T194504
CREATED:20241009T134832Z
LAST-MODIFIED:20241107T080456Z
UID:10000070-1731171600-1731182400@experiencepottery.com
SUMMARY:Pottery Party @Margarita Azul Mexican Restaurant
DESCRIPTION:(more…)
URL:https://experiencepottery.com/event/pottery-party-margarita-azul-mexican-restaurant-2/
LOCATION:Margarita Azul Mexican Restaurant\, 91 Parrish St\, Wilkes-Barre\, PA\, United States
CATEGORIES:Experience the Potter's Wheel,Family Fun Experience,Make your Own Pottery,Romantic Pottery Experiences
ATTACH;FMTTYPE=image/jpeg:https://experiencepottery.com/wp-content/uploads/2024/10/Copy-of-Copy-of-Copy-of-Margarita.jpg
ORGANIZER;CN="Experience Pottery":MAILTO:experiencepottery@outlook.com
END:VEVENT
BEGIN:VEVENT
DTSTART;VALUE=DATE:20241103
DTEND;VALUE=DATE:20241104
DTSTAMP:20260423T194504
CREATED:20241031T005059Z
LAST-MODIFIED:20241031T005955Z
UID:10000072-1730592000-1730678399@experiencepottery.com
SUMMARY:Wheel Throwing Private Pottery Experience
DESCRIPTION:(more…)
URL:https://experiencepottery.com/event/wheel-throwing-private-pottery-experience/
LOCATION:PA
ATTACH;FMTTYPE=image/png:https://experiencepottery.com/wp-content/uploads/2024/10/Copy-of-yoga-fest-Instagram-Post.png
END:VEVENT
BEGIN:VEVENT
DTSTART;TZID=America/New_York:20241026T170000
DTEND;TZID=America/New_York:20241026T200000
DTSTAMP:20260423T194504
CREATED:20241009T163859Z
LAST-MODIFIED:20241009T164040Z
UID:10000071-1729962000-1729972800@experiencepottery.com
SUMMARY:Private Pottery Party
DESCRIPTION:(more…)
URL:https://experiencepottery.com/event/private-party-breaker-brewing-co/
LOCATION:PA
ATTACH;FMTTYPE=image/png:https://experiencepottery.com/wp-content/uploads/2024/10/Copy-of-yoga-fest-Instagram-Post.png
END:VEVENT
BEGIN:VEVENT
DTSTART;TZID=America/New_York:20241006T130000
DTEND;TZID=America/New_York:20241006T150000
DTSTAMP:20260423T194504
CREATED:20240901T103733Z
LAST-MODIFIED:20240903T233759Z
UID:10000066-1728219600-1728226800@experiencepottery.com
SUMMARY:Wheel Throwing Pottery Party @Breaker Brewing Company
DESCRIPTION:(more…)
URL:https://experiencepottery.com/event/wheel-throwing-pottery-party-breaker-brewing-company/
LOCATION:Breaker Brewing Company\, 787 E Northampton St\, Wilkes-Barre Township\, PA\, 18702\, United States
CATEGORIES:Experience the Potter's Wheel,Family Fun Experience,Make your Own Pottery,Paint your own Pottery,Pottery for Wellness,Pottery Therapy,Romantic Pottery Experiences
ATTACH;FMTTYPE=image/jpeg:https://experiencepottery.com/wp-content/uploads/2024/09/Copy-of-Pottery-at-Breaker-1.jpg
ORGANIZER;CN="Experience Pottery":MAILTO:experiencepottery@outlook.com
END:VEVENT
BEGIN:VEVENT
DTSTART;TZID=America/New_York:20240829T150000
DTEND;TZID=America/New_York:20240829T170000
DTSTAMP:20260423T194504
CREATED:20240929T193157Z
LAST-MODIFIED:20240929T194626Z
UID:10000069-1724943600-1724950800@experiencepottery.com
SUMMARY:Geisinger South Wilkes Barre Private Event
DESCRIPTION:(more…)
URL:https://experiencepottery.com/event/geisinger-south-wilkes-barre-private-event/
LOCATION:PA
END:VEVENT
BEGIN:VEVENT
DTSTART;TZID=America/New_York:20240825T080000
DTEND;TZID=America/New_York:20240825T190000
DTSTAMP:20260423T194504
CREATED:20230826T215910Z
LAST-MODIFIED:20240824T210844Z
UID:10000029-1724572800-1724612400@experiencepottery.com
SUMMARY:Make your Own Pottery @Wild Women NEPA Fest
DESCRIPTION:(more…)
URL:https://experiencepottery.com/event/make-your-own-pottery-wild-women-nepa-festival/
LOCATION:PA
CATEGORIES:Make your Own Pottery,Paint your own Pottery,Pottery Therapy
ATTACH;FMTTYPE=image/png:https://experiencepottery.com/wp-content/uploads/2023/08/Copy-of-yoga-fest-Instagram-Post.png
ORGANIZER;CN="Experience Pottery":MAILTO:experiencepottery@outlook.com
END:VEVENT
BEGIN:VEVENT
DTSTART;TZID=America/New_York:20240810T160000
DTEND;TZID=America/New_York:20240810T180000
DTSTAMP:20260423T194504
CREATED:20240506T234459Z
LAST-MODIFIED:20240617T233916Z
UID:10000060-1723305600-1723312800@experiencepottery.com
SUMMARY:Pottery & Pizza Party Night at Armetta's Restaurant and Pizzeria
DESCRIPTION:(more…)
URL:https://experiencepottery.com/event/pottery-pizza-party-at-armettas-restaurant-and-pizzeria/
LOCATION:Armetta’s Restaurant and Pizzeria\, 329 Northern Blvd\, Chinchilla\,\, 18410\, United States
CATEGORIES:Family Fun Experience,Hand-Building Techniques,Make your Own Pottery,Paint your own Pottery,Pottery for Wellness,Pottery Therapy,Romantic Pottery Experiences
ATTACH;FMTTYPE=image/png:https://experiencepottery.com/wp-content/uploads/2024/05/Pottery-Pizza-Armettas-Pizzeria.png
ORGANIZER;CN="Experience Pottery":MAILTO:experiencepottery@outlook.com
END:VEVENT
BEGIN:VEVENT
DTSTART;TZID=America/New_York:20240721T130000
DTEND;TZID=America/New_York:20240721T160000
DTSTAMP:20260423T194504
CREATED:20240508T223816Z
LAST-MODIFIED:20240508T224352Z
UID:10000062-1721566800-1721577600@experiencepottery.com
SUMMARY:Wheel Throwing Pottery Experience at Mountaintop Pub & Eatery
DESCRIPTION:(more…)
URL:https://experiencepottery.com/event/mountaintop-pub-eatery/
LOCATION:Mountaintop Pub & Eatery\, 371 S Mountain Blvd\,\, Mountain Top\,\, p\, 18707\, United States
CATEGORIES:Experience the Potter's Wheel,Family Fun Experience,Make your Own Pottery,Paint your own Pottery,Romantic Pottery Experiences
ATTACH;FMTTYPE=image/png:https://experiencepottery.com/wp-content/uploads/2024/05/MountainTop-Pub-1.png
ORGANIZER;CN="Experience Pottery":MAILTO:experiencepottery@outlook.com
END:VEVENT
BEGIN:VEVENT
DTSTART;TZID=America/New_York:20240714T130000
DTEND;TZID=America/New_York:20240714T150000
DTSTAMP:20260423T194504
CREATED:20240511T110626Z
LAST-MODIFIED:20240617T233624Z
UID:10000061-1720962000-1720969200@experiencepottery.com
SUMMARY:Sip & Pottery Night Out @Pisano Family Winery
DESCRIPTION:(more…)
URL:https://experiencepottery.com/event/sip-pottery-night-out-pisano-family-winery/
LOCATION:Pisano Family Wines\, 2112 STATE ROUTE 29 HWY\, Hunlock Creek\, 18621\, United States
CATEGORIES:Family Fun Experience,Hand-Building Techniques,Make your Own Pottery,Paint your own Pottery,Pottery for Wellness,Pottery Therapy,Romantic Pottery Experiences
ATTACH;FMTTYPE=image/png:https://experiencepottery.com/wp-content/uploads/2024/05/Pisano-Family-Wines.png
ORGANIZER;CN="Experience Pottery":MAILTO:experiencepottery@outlook.com
END:VEVENT
BEGIN:VEVENT
DTSTART;TZID=America/New_York:20240627T180000
DTEND;TZID=America/New_York:20240627T200000
DTSTAMP:20260423T194504
CREATED:20240501T120702Z
LAST-MODIFIED:20240617T233541Z
UID:10000059-1719511200-1719518400@experiencepottery.com
SUMMARY:Sip & Pottery Night Out @Case Quattro Winery
DESCRIPTION:(more…)
URL:https://experiencepottery.com/event/sip-pottery-night-out-case-quattro-winery/
LOCATION:Case Quattro Winery\, 1542 Main St\,\, Peckville\, PA\, 18452\, United States
CATEGORIES:Family Fun Experience,Hand-Building Techniques,Make your Own Pottery,Paint your own Pottery,Pottery for Wellness,Pottery Therapy,Romantic Pottery Experiences
ATTACH;FMTTYPE=image/jpeg:https://experiencepottery.com/wp-content/uploads/2024/05/Copy-of-Pottery-Case-Quattro.jpg
ORGANIZER;CN="Experience Pottery":MAILTO:experiencepottery@outlook.com
END:VEVENT
BEGIN:VEVENT
DTSTART;TZID=America/New_York:20240622T140000
DTEND;TZID=America/New_York:20240622T160000
DTSTAMP:20260423T194504
CREATED:20240317T235441Z
LAST-MODIFIED:20240617T231757Z
UID:10000057-1719064800-1719072000@experiencepottery.com
SUMMARY:Wheel Throwing Pottery Experience at Spirited Art Scranton
DESCRIPTION:(more…)
URL:https://experiencepottery.com/event/wheel-throwing-pottery-experience-at-spirited-art-scranton/
LOCATION:Spirited Art Scranton\, 253 Scranton Carbondale Highway\, Dickson City\, PA\, 18508\, United States
CATEGORIES:Make your Own Pottery
ATTACH;FMTTYPE=image/jpeg:https://experiencepottery.com/wp-content/uploads/2024/03/Spirited-ARt-22nd-3.jpg
ORGANIZER;CN="Experience Pottery":MAILTO:experiencepottery@outlook.com
END:VEVENT
BEGIN:VEVENT
DTSTART;TZID=America/New_York:20240511T130000
DTEND;TZID=America/New_York:20240511T150000
DTSTAMP:20260423T194504
CREATED:20240225T224947Z
LAST-MODIFIED:20240225T233610Z
UID:10000056-1715432400-1715439600@experiencepottery.com
SUMMARY:Wheel Throwing Pottery Party @Breaker Brewing Outpost
DESCRIPTION:(more…)
URL:https://experiencepottery.com/event/wheel-throwing-pottery-party-breaker-brewing-outpost/
LOCATION:Breaker Brewing Outpost – Archbald\, 192 Wildcat Rd\,\, Archbald\, PA\, 18403\, United States
CATEGORIES:Make your Own Pottery
ATTACH;FMTTYPE=image/png:https://experiencepottery.com/wp-content/uploads/2024/02/1-3.png
ORGANIZER;CN="Experience Pottery":MAILTO:experiencepottery@outlook.com
END:VEVENT
BEGIN:VEVENT
DTSTART;TZID=America/New_York:20240510T173000
DTEND;TZID=America/New_York:20240510T200000
DTSTAMP:20260423T194505
CREATED:20240203T124722Z
LAST-MODIFIED:20240506T131728Z
UID:10000048-1715362200-1715371200@experiencepottery.com
SUMMARY:Pottery Party @Margarita Azul Mexican Restaurant
DESCRIPTION:(more…)
URL:https://experiencepottery.com/event/pottery-party-margarita-azul-mexican-restaurant/
LOCATION:Margarita Azul Mexican Restaurant\, 91 Parrish St\, Wilkes-Barre\, PA\, United States
CATEGORIES:Experience the Potter's Wheel,Family Fun Experience,Make your Own Pottery,Romantic Pottery Experiences
ATTACH;FMTTYPE=image/jpeg:https://experiencepottery.com/wp-content/uploads/2024/02/Margarita-Azul-1.jpg
ORGANIZER;CN="Experience Pottery":MAILTO:experiencepottery@outlook.com
END:VEVENT
BEGIN:VEVENT
DTSTART;TZID=America/New_York:20240509T180000
DTEND;TZID=America/New_York:20240509T200000
DTSTAMP:20260423T194505
CREATED:20240321T215501Z
LAST-MODIFIED:20240420T193250Z
UID:10000058-1715277600-1715284800@experiencepottery.com
SUMMARY:Pottery Night Out at Boozy B's
DESCRIPTION:(more…)
URL:https://experiencepottery.com/event/pottery-night-boozy/
LOCATION:Boozy B’s\, 41 S Main St Suite A400\,\, Wilkes-Barre\, PA\, 18701\, United States
CATEGORIES:Family Fun Experience,Hand-Building Techniques,Make your Own Pottery,Paint your own Pottery,Pottery for Wellness,Pottery Therapy,Romantic Pottery Experiences
ATTACH;FMTTYPE=image/png:https://experiencepottery.com/wp-content/uploads/2024/03/boozy-bs.png
ORGANIZER;CN="Experience Pottery":MAILTO:experiencepottery@outlook.com
END:VEVENT
BEGIN:VEVENT
DTSTART;TZID=America/New_York:20240504T140000
DTEND;TZID=America/New_York:20240504T160000
DTSTAMP:20260423T194505
CREATED:20240225T170532Z
LAST-MODIFIED:20240228T021301Z
UID:10000055-1714831200-1714838400@experiencepottery.com
SUMMARY:Pottery Experience with Mom at Spirited Art Scranton
DESCRIPTION:(more…)
URL:https://experiencepottery.com/event/pottery-experience-with-mom-at-spirited-art-scranton/
LOCATION:Spirited Art Scranton\, 253 Scranton Carbondale Highway\, Dickson City\, PA\, 18508\, United States
CATEGORIES:Make your Own Pottery
ATTACH;FMTTYPE=image/png:https://experiencepottery.com/wp-content/uploads/2024/02/Mothers-Day-Spirited-Art-2.png
ORGANIZER;CN="Experience Pottery":MAILTO:experiencepottery@outlook.com
END:VEVENT
BEGIN:VEVENT
DTSTART;TZID=America/New_York:20240421T140000
DTEND;TZID=America/New_York:20240421T160000
DTSTAMP:20260423T194505
CREATED:20240211T152214Z
LAST-MODIFIED:20240317T204718Z
UID:10000051-1713708000-1713715200@experiencepottery.com
SUMMARY:Pottery & Pizza Party at Armetta's Restaurant and Pizzeria
DESCRIPTION:(more…)
URL:https://experiencepottery.com/event/pottery-pizza-party/
LOCATION:Armetta’s Restaurant and Pizzeria\, 329 Northern Blvd\, Chinchilla\,\, 18410\, United States
CATEGORIES:Family Fun Experience,Hand-Building Techniques,Make your Own Pottery,Paint your own Pottery,Pottery for Wellness,Pottery Therapy,Romantic Pottery Experiences
ATTACH;FMTTYPE=image/png:https://experiencepottery.com/wp-content/uploads/2024/02/Pottery-Pizza-Night-Out-April-21.png
ORGANIZER;CN="Experience Pottery":MAILTO:experiencepottery@outlook.com
END:VEVENT
BEGIN:VEVENT
DTSTART;TZID=America/New_York:20240415T190000
DTEND;TZID=America/New_York:20240415T210000
DTSTAMP:20260423T194505
CREATED:20240213T215434Z
LAST-MODIFIED:20240415T124238Z
UID:10000053-1713207600-1713214800@experiencepottery.com
SUMMARY:Pottery Night Out at Porkiez Bar & Grill
DESCRIPTION:(more…)
URL:https://experiencepottery.com/event/pottery-at-porkiez-bar/
LOCATION:Porkiez Bar and Grill\, 731 Dunmore St\,\, Throop\,\, PA\, 18512\, United States
CATEGORIES:Family Fun Experience,Hand-Building Techniques,Make your Own Pottery,Paint your own Pottery,Pottery for Wellness,Pottery Therapy,Romantic Pottery Experiences
ATTACH;FMTTYPE=image/png:https://experiencepottery.com/wp-content/uploads/2024/02/Porkiez-Hand-Building_20240322_135300_0000.png
ORGANIZER;CN="Experience Pottery":MAILTO:experiencepottery@outlook.com
END:VEVENT
BEGIN:VEVENT
DTSTART;TZID=America/New_York:20240413T130000
DTEND;TZID=America/New_York:20240413T150000
DTSTAMP:20260423T194505
CREATED:20240224T183744Z
LAST-MODIFIED:20240413T172047Z
UID:10000054-1713013200-1713020400@experiencepottery.com
SUMMARY:Wheel Throwing Pottery Party @Breaker Brewing Company
DESCRIPTION:(more…)
URL:https://experiencepottery.com/event/pottery-experience-at-breaker-brewing-company/
LOCATION:Breaker Brewing Company\, 787 E Northampton St\, Wilkes-Barre Township\, PA\, 18702\, United States
CATEGORIES:Make your Own Pottery
ATTACH;FMTTYPE=image/png:https://experiencepottery.com/wp-content/uploads/2024/02/2-3.png
ORGANIZER;CN="Experience Pottery":MAILTO:experiencepottery@outlook.com
END:VEVENT
BEGIN:VEVENT
DTSTART;TZID=America/New_York:20240330T140000
DTEND;TZID=America/New_York:20240330T160000
DTSTAMP:20260423T194505
CREATED:20240131T032002Z
LAST-MODIFIED:20240326T122146Z
UID:10000047-1711807200-1711814400@experiencepottery.com
SUMMARY:Sip & Pottery Night Out @Case Quattro Winery
DESCRIPTION:(more…)
URL:https://experiencepottery.com/event/case-quattro-winery/
LOCATION:Case Quattro Winery\, 1542 Main St\,\, Peckville\, PA\, 18452\, United States
CATEGORIES:Hand-Building Techniques,Make your Own Pottery,Paint your own Pottery,Pottery for Wellness,Pottery Therapy,Romantic Pottery Experiences
ATTACH;FMTTYPE=image/png:https://experiencepottery.com/wp-content/uploads/2024/01/Pottery-Case-Quattro.png
ORGANIZER;CN="Experience Pottery":MAILTO:experiencepottery@outlook.com
END:VEVENT
END:VCALENDAR