BEGIN:VCALENDAR
VERSION:2.0
PRODID:-//Experience Pottery - ECPv6.15.20//NONSGML v1.0//EN
CALSCALE:GREGORIAN
METHOD:PUBLISH
X-WR-CALNAME:Experience Pottery
X-ORIGINAL-URL:https://experiencepottery.com
X-WR-CALDESC:Events for Experience Pottery
REFRESH-INTERVAL;VALUE=DURATION:PT1H
X-Robots-Tag:noindex
X-PUBLISHED-TTL:PT1H
BEGIN:VTIMEZONE
TZID:America/New_York
BEGIN:DAYLIGHT
TZOFFSETFROM:-0500
TZOFFSETTO:-0400
TZNAME:EDT
DTSTART:20250309T070000
END:DAYLIGHT
BEGIN:STANDARD
TZOFFSETFROM:-0400
TZOFFSETTO:-0500
TZNAME:EST
DTSTART:20251102T060000
END:STANDARD
BEGIN:DAYLIGHT
TZOFFSETFROM:-0500
TZOFFSETTO:-0400
TZNAME:EDT
DTSTART:20260308T070000
END:DAYLIGHT
BEGIN:STANDARD
TZOFFSETFROM:-0400
TZOFFSETTO:-0500
TZNAME:EST
DTSTART:20261101T060000
END:STANDARD
BEGIN:DAYLIGHT
TZOFFSETFROM:-0500
TZOFFSETTO:-0400
TZNAME:EDT
DTSTART:20270314T070000
END:DAYLIGHT
BEGIN:STANDARD
TZOFFSETFROM:-0400
TZOFFSETTO:-0500
TZNAME:EST
DTSTART:20271107T060000
END:STANDARD
END:VTIMEZONE
BEGIN:VEVENT
DTSTART;TZID=America/New_York:20260423T180000
DTEND;TZID=America/New_York:20260423T200000
DTSTAMP:20260425T085922
CREATED:20260312T192349Z
LAST-MODIFIED:20260312T192349Z
UID:10000112-1776967200-1776974400@experiencepottery.com
SUMMARY:Bloom & Build: Hand-Built Flower Vase Night @ Wired & Inspired
DESCRIPTION:(more…)
URL:https://experiencepottery.com/event/bloom-build-hand-built-flower-vase-night-wired-inspired/
LOCATION:Wired and Inspired Cafe\, 1400 Electric St\,\, Dunmore\, PA\, 18509\, United States
CATEGORIES:Family Fun Experience,Hand-Building Techniques,Pottery for Wellness
ATTACH;FMTTYPE=image/webp:https://experiencepottery.com/wp-content/uploads/2026/03/Handbuilding-Pottery-Experience-Dunmore-PA-Flower-Vase-Making-at-Wired-and-Inspired-1.webp
ORGANIZER;CN="Experience Pottery":MAILTO:experiencepottery@outlook.com
END:VEVENT
BEGIN:VEVENT
DTSTART;TZID=America/New_York:20260506T180000
DTEND;TZID=America/New_York:20260506T200000
DTSTAMP:20260425T085922
CREATED:20260326T145715Z
LAST-MODIFIED:20260326T150625Z
UID:10000115-1778090400-1778097600@experiencepottery.com
SUMMARY:Brews & Pottery: Monstera Leaf Dish Night @Benny Brewing
DESCRIPTION:(more…)
URL:https://experiencepottery.com/event/brews-clay-monstera-leaf-dish-night-benny-brewing/
LOCATION:Benny Brewing Company\, 1429 Sans Souci Pkwy\, Wilkes-Barre\, PA\, 18706\, United States
CATEGORIES:Family Fun Experience,Gift Certificate,Hand-Building Techniques,Holiday Pottery Experience,Make your Own Pottery,Paint your own Pottery,Pottery for Wellness,Pottery Therapy,Private Experience,Romantic Pottery Experiences
ATTACH;FMTTYPE=image/webp:https://experiencepottery.com/wp-content/uploads/2026/03/Benny-Brewing.webp
ORGANIZER;CN="Experience Pottery":MAILTO:experiencepottery@outlook.com
END:VEVENT
BEGIN:VEVENT
DTSTART;TZID=America/New_York:20260514T180000
DTEND;TZID=America/New_York:20260514T200000
DTSTAMP:20260425T085923
CREATED:20260326T130411Z
LAST-MODIFIED:20260326T130723Z
UID:10000114-1778781600-1778788800@experiencepottery.com
SUMMARY:Sip\, Sculpt & Bloom: Travel Mug Night @ Matterns Floral Cafe
DESCRIPTION:(more…)
URL:https://experiencepottery.com/event/sip-sculpt-bloom-travel-mug-night-matterns-floral-cafe/
LOCATION:Matterns Floral Cafe\, 447 Market St\,\, Kingston\,\, PA\, 18704\, United States
CATEGORIES:Family Fun Experience,Gift Certificate,Hand-Building Techniques,Holiday Pottery Experience,Make your Own Pottery,Paint your own Pottery,Pottery for Wellness,Pottery Therapy,Romantic Pottery Experiences
ATTACH;FMTTYPE=image/webp:https://experiencepottery.com/wp-content/uploads/2026/03/Handbuilding-Pottery-Experience-Wilkes-Barre-PA-Pottery-Travel-Mug-Making-at-Matterns-Floral-Cafe.webp
ORGANIZER;CN="Experience Pottery":MAILTO:experiencepottery@outlook.com
END:VEVENT
BEGIN:VEVENT
DTSTART;VALUE=DATE:20261231
DTEND;VALUE=DATE:20270101
DTSTAMP:20260425T085923
CREATED:20230901T201958Z
LAST-MODIFIED:20260210T184841Z
UID:10000031-1798675200-1798761599@experiencepottery.com
SUMMARY:Pottery Experience Gift Card
DESCRIPTION:(more…)
URL:https://experiencepottery.com/event/gift-card/
LOCATION:PA
CATEGORIES:Experience the Potter's Wheel,Family Fun Experience,Gift Certificate,Hand-Building Techniques,Make your Own Pottery,Paint your own Pottery,Pottery for Wellness,Pottery Therapy,Romantic Pottery Experiences
ATTACH;FMTTYPE=image/png:https://experiencepottery.com/wp-content/uploads/2023/09/Copy-of-case-quatro-1.png
ORGANIZER;CN="Experience Pottery":MAILTO:experiencepottery@outlook.com
END:VEVENT
END:VCALENDAR