BEGIN:VCALENDAR
VERSION:2.0
PRODID:-//Experience Pottery - ECPv6.15.20//NONSGML v1.0//EN
CALSCALE:GREGORIAN
METHOD:PUBLISH
X-WR-CALNAME:Experience Pottery
X-ORIGINAL-URL:https://experiencepottery.com
X-WR-CALDESC:Events for Experience Pottery
REFRESH-INTERVAL;VALUE=DURATION:PT1H
X-Robots-Tag:noindex
X-PUBLISHED-TTL:PT1H
BEGIN:VTIMEZONE
TZID:UTC
BEGIN:STANDARD
TZOFFSETFROM:+0000
TZOFFSETTO:+0000
TZNAME:UTC
DTSTART:20220101T000000
END:STANDARD
END:VTIMEZONE
BEGIN:VEVENT
DTSTART;TZID=UTC:20230318T173000
DTEND;TZID=UTC:20230318T193000
DTSTAMP:20260425T124337
CREATED:20230305T012646Z
LAST-MODIFIED:20230317T192837Z
UID:10000002-1679160600-1679167800@experiencepottery.com
SUMMARY:Make your own Crystal Mug at The Crystal Conclusion
DESCRIPTION:Sold Out Again!\nJoin us for a second date at The Crystal Conclusion and manifest your creativity by making a project that honors your mind\, body and spirit. \nParticipants will create a mug with their favorite crystal set into the surface. Throughout the process you will experience the mindful and wellness benefits of working with your hands by\nusing the potter’s wheel\, and reconnect with Mother Earth by working with one of its oldest life-sustaining materials: natural clay.\nHow It Works…\nFIRST our artisan will move you through the creative process of turning a ball of clay into a useful piece of art from start-to-finish. Yes! You will work at the potter’s wheel to experience\nmaking your own pottery mug. \nSECOND once you created a beautiful piece\, you will choose a beautiful crystal from The Crystal Conclusion that you will set into the surface of your mug! (Payments for crystals due to\nThe Crystal Conclusion during the event) \nTHIRD Once you’re off the wheel and have your crystal picked out\, Experience Pottery will guide\nyou through the creative process of decorating your work by carving\, modeling\, adding painted\nvibrant color\, and helping you add a handle. \nUnplug\, and relax in a mindful setting that honors your creative spirit\, stirs your sense of wonder\, and fills your soul with the joy of creating with your hands! \nAfter the Event….\nAt the end of the evening\, pieces will be taken to our studio in the Endless Mountains of beautiful Pennsylvania where your mugs will experience the last of the Elements: Fire! \nFinished pieces will be delivered to The Crystal Conclusion for pick up. (Please allow 2-4 weeks\nfor processing)\nOnce you receive your finished pottery\, each piece will be food/ liquid safe.\nNo matter what\, DO NOT MICROWAVE to protect your crystal (and microwave). Wash by hand. \nYour Experience Cost: $65.00 per person\n(includes clay\, experience\, paint/glazing\, and firing) \nYour Crystal Cost: TBD\, based on your choice. Payments for crystals due to The Crystal\nConclusion during the event.\nThings to consider during the event… \nLong hair should be put up or back\, and long necklaces thrown over the shoulder please!\nThank you for taking your jewelry off your wrists and fingers before we get started.\nClothing and shoes that you don’t mind getting a little bit dirty should be worn. \nDisclaimer…\nWe can not guarantee that you will create the exact shape and result from the mugs in the\nsample images..\nWe will make every effort to work with you to create the shape of mug you desire\, but remember\nthat each mug will look different in shape\, and different in size depending on what we create.\nEvery piece will be beautiful since it will be made by you! All of your energy\, and creative spirit\nwill be embedded in your mug to enjoy for a lifetime! \nQuestions?\nEmail us or call us!\nexperiencepottery@outlook.com\n5708778912
URL:https://experiencepottery.com/event/make-your-own-pottery-crystal-embedded-mug/
LOCATION:The Crystal Conclusion\, 400 South State Street\, Rear\,\, Clarks Summit\,\, PA\, 18411\, United States
ATTACH;FMTTYPE=image/png:https://experiencepottery.com/wp-content/uploads/2023/03/Brown-Full-Photo-Simple-Pottery-Virtual-Class-Workshop-Poster-3.png
ORGANIZER;CN="Experience Pottery":MAILTO:experiencepottery@outlook.com
END:VEVENT
END:VCALENDAR