BEGIN:VCALENDAR
VERSION:2.0
PRODID:-//Experience Pottery - ECPv6.15.20//NONSGML v1.0//EN
CALSCALE:GREGORIAN
METHOD:PUBLISH
X-WR-CALNAME:Experience Pottery
X-ORIGINAL-URL:https://experiencepottery.com
X-WR-CALDESC:Events for Experience Pottery
REFRESH-INTERVAL;VALUE=DURATION:PT1H
X-Robots-Tag:noindex
X-PUBLISHED-TTL:PT1H
BEGIN:VTIMEZONE
TZID:America/New_York
BEGIN:DAYLIGHT
TZOFFSETFROM:-0500
TZOFFSETTO:-0400
TZNAME:EDT
DTSTART:20220313T070000
END:DAYLIGHT
BEGIN:STANDARD
TZOFFSETFROM:-0400
TZOFFSETTO:-0500
TZNAME:EST
DTSTART:20221106T060000
END:STANDARD
BEGIN:DAYLIGHT
TZOFFSETFROM:-0500
TZOFFSETTO:-0400
TZNAME:EDT
DTSTART:20230312T070000
END:DAYLIGHT
BEGIN:STANDARD
TZOFFSETFROM:-0400
TZOFFSETTO:-0500
TZNAME:EST
DTSTART:20231105T060000
END:STANDARD
BEGIN:DAYLIGHT
TZOFFSETFROM:-0500
TZOFFSETTO:-0400
TZNAME:EDT
DTSTART:20240310T070000
END:DAYLIGHT
BEGIN:STANDARD
TZOFFSETFROM:-0400
TZOFFSETTO:-0500
TZNAME:EST
DTSTART:20241103T060000
END:STANDARD
END:VTIMEZONE
BEGIN:VEVENT
DTSTART;TZID=America/New_York:20231101T183000
DTEND;TZID=America/New_York:20231101T203000
DTSTAMP:20260426T002525
CREATED:20230915T005150Z
LAST-MODIFIED:20231011T010025Z
UID:10000033-1698863400-1698870600@experiencepottery.com
SUMMARY:Paint your own Pottery Cantarito Tumbler "Dia de los Muertos" at Margarita Azul Mexican Restaurant
DESCRIPTION:Adult Paint Night / Pottery Experience				\n				\n				\n				\n					\n	\n\n		\n		\n		\n\n		\n\n		\n\n\n\n	Tickets\n\n		\n	\n	\n		The numbers below include tickets for this event already in your cart. Clicking "Get Tickets" will allow you to edit any existing attendee information as well as change ticket quantities.	\n\n\n		\n\n	\n		\n				Paint and Pottery Night	\n\n\n\n	\n		\n		$30.00			\n\n\n	\n\n\n	\n	 20  available\n\n\n	\n\n\n	\n						\n	Decrease ticket quantity for Paint and Pottery Night\n	-\n				\n\n	\n		Quantity	\n	\n\n					\n	Increase ticket quantity for Paint and Pottery Night\n	+\n			\n\n	\n		\n	\n\n\n		\n\n	\n	\n	\n		Quantity:	\n	0\n\n\n	\n	\n		Total:	\n	\n		$0.00	\n\n\n	Get Tickets\n\n		\n				\n	\n\n\n		\n		\n	\n	\n\n	\n	\n\n	\n	\n\n\n\n			\n\n	\n\n\n				\n				\n				\n				\n					Share this event!				\n				\n				\n				\n							\n								\n						\n															\n															\n																						\n																			\n										Facebook									\n																	\n													\n					\n									\n						\n															\n															\n																						\n																			\n										Threads									\n																	\n													\n					\n									\n						\n															\n															\n																						\n																			\n										Pinterest									\n																	\n													\n					\n									\n						\n															\n															\n																						\n																			\n										LinkedIn									\n																	\n													\n					\n									\n						\n															\n															\n																						\n																			\n										X									\n																	\n													\n					\n									\n						\n															\n															\n																						\n																			\n										Email									\n																	\n													\n					\n						\n						\n				\n					\n		\n					\n		\n				\n						\n					\n			\n						\n				\n																														\n				\n				\n				\n					Event Details...				\n				\n				\n				\n									Come get a little muddy and make something beautiful.  In this hands-on pottery experience\, you’ll create your own flower-shaped or leaf-inspired bowl using easy\, beginner-friendly hand-building techniques. Our artist will guide you you step-by-step as you shape\, texture\, and personalize your bowl. Perfect for a fun night out\, a creative reset\, or a “I can’t believe I made that!” moment. All pieces will be glazed and fired to make them food-safe! No experience needed—just bring your imagination. 								\n				\n				\n				\n									Your Experience Cost: $30.00 per person (Includes materials and process: clay experience\, paint/glazing\, and firing) 								\n				\n				\n				\n									✨ What Happens Next With Your Creation ✨ 🎨 Finishing Process • Your pieces will journey to our professional studio • Our artisans will carefully glaze and fire your creation • Each piece receives special attention to ensure lasting quality 📦 Easy Pick-Up • Return to the same venue in 3-4 weeks • We’ll notify you when your piece is ready • Pick up your finished masterpiece where the magic began! 🏆 Quality You Can Trust • 100% food and liquid safe • Microwave friendly • Dishwasher safe • Built to last for years of enjoyment 								\n				\n				\n				\n									Before and During the Event: – Arrive 10 minutes before your scheduled time and check in with us.– Wear clothing and shoes that can get dirty.– Remove jewelry from wrists and fingers before starting.– A full menu will be available for purchase\, and you can eat and drink during your experience. After the Event: – Your pieces will be taken to our studio to be glazed and fired.– Finished pieces will be microwave\, dishwasher\, food\, and liquid safe.– Pieces will be delivered back to the venue where you created your pottery within 3-4 weeks. Important Details to Keep in Mind: – Each piece will be unique in shape and size.– Our team will guide you through the process\, but pottery can be unpredictable.– There’s a small chance that your piece might not survive the drying\, transportation\, or firing process. If this happens\, our skilled artisan will create a new piece for you.– In this event\, you’ll be using hand-building techniques to create your pottery\, which means you’ll be shaping and molding the clay with your hands\, rather than using a potter’s wheel. Let’s get creative and have fun! 								\n				\n					\n		\n					\n		\n				\n						\n					\n			\n						\n				\n					Date and Venue				\n				\n				\n				\n					\n		\n			July 23\n\n	\n\n	  @  \n\n\n6:00 pm\n\n		\n\n\n\n	\n	  -  \n\n8:00 pm\n\n\n\n	\n				\n				\n				\n				\n					\n				\n				\n	\n			\n		Moosic Lakes Club House			\n	\n	\n	\n\n25 Beach House Road\n	\n		\n		Jefferson Township\,\n\n	PA\n\n	18436\n\n	United States\n\n\n\n\n	+ Google Map \n\n\n	\n					\n						\n	 \n\n\n	\n	 \n\n\n\n	\n\n\n\n		\n	\n				\n				\n					\n		\n				\n			\n						\n				\n					Organizer				\n				\n				\n				\n					\n	\n			\n			Experience Pottery			\n	\n\n	\n	\n\n	Phone:\n					\n			607 414 2062			\n	 \n\n\n	\n\n	Website:View Organizer Website \n\n\n	\n	Email:\n					\n			experiencepottery@outlook.com			\n	 \n\n\n\n				\n				\n					\n		\n					\n		\n				\n						\n					\n			\n						\n				\n					\n	\n	Related Events\n\n\n	\n\n	\n	\n		\n\n		\n			\n	\n		Sip\, Sculpt & Bloom: Travel Mug Night @ Matterns Floral Cafe	\n\n\n	May 14 @ 6:00 pm - 8:00 pm \n		\n	\n\n\n	\n	\n		\n\n		\n			\n	\n		Pottery Experience Gift Card	\n\n\n	December 31
URL:https://experiencepottery.com/event/paint-your-own-pottery-diadelosmuertos/
LOCATION:Margarita Azul Mexican Restaurant\, 91 Parrish St\, Wilkes-Barre\, PA\, United States
CATEGORIES:Paint your own Pottery
ATTACH;FMTTYPE=image/png:https://experiencepottery.com/wp-content/uploads/2023/09/Jalapeno-2.png
ORGANIZER;CN="Experience Pottery":MAILTO:experiencepottery@outlook.com
END:VEVENT
BEGIN:VEVENT
DTSTART;TZID=America/New_York:20231112T113000
DTEND;TZID=America/New_York:20231112T133000
DTSTAMP:20260426T002525
CREATED:20230915T013601Z
LAST-MODIFIED:20230915T014103Z
UID:10000034-1699788600-1699795800@experiencepottery.com
SUMMARY:Make your Own Pottery and mimosas  @Nearme Yoga Moosic
DESCRIPTION:Adult Paint Night / Pottery Experience				\n				\n				\n				\n					\n	\n\n		\n		\n		\n\n		\n\n		\n\n\n\n	Tickets\n\n		\n	\n	\n		The numbers below include tickets for this event already in your cart. Clicking "Get Tickets" will allow you to edit any existing attendee information as well as change ticket quantities.	\n\n\n		\n\n	\n		\n				Paint and Pottery Night	\n\n\n\n	\n		\n		$30.00			\n\n\n	\n\n\n	\n	 20  available\n\n\n	\n\n\n	\n					\n\n	\n		Quantity	\n	\n\n			\n\n	\n		\n	\n\n\n		\n\n	\n	\n	\n		Quantity:	\n	0\n\n\n	\n	\n		Total:	\n	\n		$0.00	\n\n\n	Get Tickets\n\n		\n				\n	\n\n\n		\n		\n	\n	\n\n	\n	\n\n	\n	\n\n\n\n			\n\n	\n\n\n				\n				\n				\n				\n					Share this event!				\n				\n				\n				\n							\n								\n						\n															\n															\n																						\n																			\n										Facebook									\n																	\n													\n					\n									\n						\n															\n															\n																						\n																			\n										Threads									\n																	\n													\n					\n									\n						\n															\n															\n																						\n																			\n										Pinterest									\n																	\n													\n					\n									\n						\n															\n															\n																						\n																			\n										LinkedIn									\n																	\n													\n					\n									\n						\n															\n															\n																						\n																			\n										X									\n																	\n													\n					\n									\n						\n															\n															\n																						\n																			\n										Email									\n																	\n													\n					\n						\n						\n				\n					\n		\n					\n		\n				\n						\n					\n			\n						\n				\n																														\n				\n				\n				\n					Event Details...				\n				\n				\n				\n									Come get a little muddy and make something beautiful.  In this hands-on pottery experience\, you’ll create your own flower-shaped or leaf-inspired bowl using easy\, beginner-friendly hand-building techniques. Our artist will guide you you step-by-step as you shape\, texture\, and personalize your bowl. Perfect for a fun night out\, a creative reset\, or a “I can’t believe I made that!” moment. All pieces will be glazed and fired to make them food-safe! No experience needed—just bring your imagination. 								\n				\n				\n				\n									Your Experience Cost: $30.00 per person (Includes materials and process: clay experience\, paint/glazing\, and firing) 								\n				\n				\n				\n									✨ What Happens Next With Your Creation ✨ 🎨 Finishing Process • Your pieces will journey to our professional studio • Our artisans will carefully glaze and fire your creation • Each piece receives special attention to ensure lasting quality 📦 Easy Pick-Up • Return to the same venue in 3-4 weeks • We’ll notify you when your piece is ready • Pick up your finished masterpiece where the magic began! 🏆 Quality You Can Trust • 100% food and liquid safe • Microwave friendly • Dishwasher safe • Built to last for years of enjoyment 								\n				\n				\n				\n									Before and During the Event: – Arrive 10 minutes before your scheduled time and check in with us.– Wear clothing and shoes that can get dirty.– Remove jewelry from wrists and fingers before starting.– A full menu will be available for purchase\, and you can eat and drink during your experience. After the Event: – Your pieces will be taken to our studio to be glazed and fired.– Finished pieces will be microwave\, dishwasher\, food\, and liquid safe.– Pieces will be delivered back to the venue where you created your pottery within 3-4 weeks. Important Details to Keep in Mind: – Each piece will be unique in shape and size.– Our team will guide you through the process\, but pottery can be unpredictable.– There’s a small chance that your piece might not survive the drying\, transportation\, or firing process. If this happens\, our skilled artisan will create a new piece for you.– In this event\, you’ll be using hand-building techniques to create your pottery\, which means you’ll be shaping and molding the clay with your hands\, rather than using a potter’s wheel. Let’s get creative and have fun! 								\n				\n					\n		\n					\n		\n				\n						\n					\n			\n						\n				\n					Date and Venue				\n				\n				\n				\n					\n		\n			July 23\n\n	\n\n	  @  \n\n\n6:00 pm\n\n		\n\n\n\n	\n	  -  \n\n8:00 pm\n\n\n\n	\n				\n				\n				\n				\n					\n				\n				\n	\n			\n		Moosic Lakes Club House			\n	\n	\n	\n\n25 Beach House Road\n	\n		\n		Jefferson Township\,\n\n	PA\n\n	18436\n\n	United States\n\n\n\n\n	+ Google Map \n\n\n	\n					\n						\n	 \n\n\n	\n	 \n\n\n\n	\n\n\n\n		\n	\n				\n				\n					\n		\n				\n			\n						\n				\n					Organizer				\n				\n				\n				\n					\n	\n			\n			Experience Pottery			\n	\n\n	\n	\n					\n			607 414 2062			\n	 \n\n\n	View Organizer Website \n\n\n	\n					\n			experiencepottery@outlook.com
URL:https://experiencepottery.com/event/make-your-own-pottery-and-mimosas-nearme-yoga-moosic/
LOCATION:Nearme Cafe\, 700 Main ST\, Moosic\, PA\, 18507\, United States
CATEGORIES:Pottery for Wellness,Pottery Therapy
ATTACH;FMTTYPE=image/png:https://experiencepottery.com/wp-content/uploads/2023/09/Pottery-Therapy-Workshop-Experience-Pottery.png
ORGANIZER;CN="Experience Pottery":MAILTO:experiencepottery@outlook.com
END:VEVENT
BEGIN:VEVENT
DTSTART;TZID=America/New_York:20231121T170000
DTEND;TZID=America/New_York:20231121T200000
DTSTAMP:20260426T002526
CREATED:20230901T185813Z
LAST-MODIFIED:20231112T121723Z
UID:10000030-1700586000-1700596800@experiencepottery.com
SUMMARY:Make Your Own Pottery @Breaker Brewing Outpost
DESCRIPTION:Adult Paint Night / Pottery Experience				\n				\n				\n				\n					\n	\n\n		\n		\n		\n\n		\n\n		\n\n\n\n	Tickets\n\n		\n	\n	\n		The numbers below include tickets for this event already in your cart. Clicking "Get Tickets" will allow you to edit any existing attendee information as well as change ticket quantities.	\n\n\n		\n\n	\n		\n				Paint and Pottery Night	\n\n\n\n	\n		\n		$30.00			\n\n\n	\n\n\n	\n	 20  available\n\n\n	\n\n\n	\n					\n\n	\n		Quantity	\n	\n\n			\n\n	\n		\n	\n\n\n		\n\n	\n	\n	\n		Quantity:	\n	0\n\n\n	\n	\n		Total:	\n	\n		$0.00	\n\n\n	Get Tickets\n\n		\n				\n	\n\n\n		\n		\n	\n	\n\n	\n	\n\n	\n	\n\n\n\n			\n\n	\n\n\n				\n				\n				\n				\n					Share this event!				\n				\n				\n				\n							\n								\n						\n															\n															\n																						\n																			\n										Facebook									\n																	\n													\n					\n									\n						\n															\n															\n																						\n																			\n										Threads									\n																	\n													\n					\n									\n						\n															\n															\n																						\n																			\n										Pinterest									\n																	\n													\n					\n									\n						\n															\n															\n																						\n																			\n										LinkedIn									\n																	\n													\n					\n									\n						\n															\n															\n																						\n																			\n										X									\n																	\n													\n					\n									\n						\n															\n															\n																						\n																			\n										Email									\n																	\n													\n					\n						\n						\n				\n					\n		\n					\n		\n				\n						\n					\n			\n						\n				\n																														\n				\n				\n				\n					Event Details...				\n				\n				\n				\n									Come get a little muddy and make something beautiful.  In this hands-on pottery experience\, you’ll create your own flower-shaped or leaf-inspired bowl using easy\, beginner-friendly hand-building techniques. Our artist will guide you you step-by-step as you shape\, texture\, and personalize your bowl. Perfect for a fun night out\, a creative reset\, or a “I can’t believe I made that!” moment. All pieces will be glazed and fired to make them food-safe! No experience needed—just bring your imagination. 								\n				\n				\n				\n									Your Experience Cost: $30.00 per person (Includes materials and process: clay experience\, paint/glazing\, and firing) 								\n				\n				\n				\n									✨ What Happens Next With Your Creation ✨ 🎨 Finishing Process • Your pieces will journey to our professional studio • Our artisans will carefully glaze and fire your creation • Each piece receives special attention to ensure lasting quality 📦 Easy Pick-Up • Return to the same venue in 3-4 weeks • We’ll notify you when your piece is ready • Pick up your finished masterpiece where the magic began! 🏆 Quality You Can Trust • 100% food and liquid safe • Microwave friendly • Dishwasher safe • Built to last for years of enjoyment 								\n				\n				\n				\n									Before and During the Event: – Arrive 10 minutes before your scheduled time and check in with us.– Wear clothing and shoes that can get dirty.– Remove jewelry from wrists and fingers before starting.– A full menu will be available for purchase\, and you can eat and drink during your experience. After the Event: – Your pieces will be taken to our studio to be glazed and fired.– Finished pieces will be microwave\, dishwasher\, food\, and liquid safe.– Pieces will be delivered back to the venue where you created your pottery within 3-4 weeks. Important Details to Keep in Mind: – Each piece will be unique in shape and size.– Our team will guide you through the process\, but pottery can be unpredictable.– There’s a small chance that your piece might not survive the drying\, transportation\, or firing process. If this happens\, our skilled artisan will create a new piece for you.– In this event\, you’ll be using hand-building techniques to create your pottery\, which means you’ll be shaping and molding the clay with your hands\, rather than using a potter’s wheel. Let’s get creative and have fun! 								\n				\n					\n		\n					\n		\n				\n						\n					\n			\n						\n				\n					Date and Venue				\n				\n				\n				\n					\n		\n			July 23\n\n	\n\n	  @  \n\n\n6:00 pm\n\n		\n\n\n\n	\n	  -  \n\n8:00 pm\n\n\n\n	\n				\n				\n				\n				\n					\n				\n				\n	\n			\n		Moosic Lakes Club House			\n	\n	\n	\n\n25 Beach House Road\n	\n		\n		Jefferson Township\,\n\n	PA\n\n	18436\n\n	United States\n\n\n\n\n	+ Google Map \n\n\n	\n					\n						\n	 \n\n\n	\n	 \n\n\n\n	\n\n\n\n		\n	\n				\n				\n					\n		\n				\n			\n						\n				\n					Organizer				\n				\n				\n				\n					\n	\n			\n			Experience Pottery			\n	\n\n	\n	\n					\n			607 414 2062			\n	 \n\n\n	View Organizer Website \n\n\n	\n					\n			experiencepottery@outlook.com
URL:https://experiencepottery.com/event/make-your-own-pottery-breaker-brewing-outpost/
LOCATION:Breaker Brewing Outpost – Archbald\, 192 Wildcat Rd\,\, Archbald\, PA\, 18403\, United States
CATEGORIES:Make your Own Pottery
ATTACH;FMTTYPE=image/png:https://experiencepottery.com/wp-content/uploads/2023/09/MYOP-Beer-Pint-Breaker-1.png
ORGANIZER;CN="Experience Pottery":MAILTO:experiencepottery@outlook.com
END:VEVENT
BEGIN:VEVENT
DTSTART;TZID=America/New_York:20231124T180000
DTEND;TZID=America/New_York:20231124T200000
DTSTAMP:20260426T002526
CREATED:20231001T000510Z
LAST-MODIFIED:20231124T141547Z
UID:10000035-1700848800-1700856000@experiencepottery.com
SUMMARY:Pottery and Beer: Make Your Own Pottery with Hand-building Techniques @Groove Brewing
DESCRIPTION:Adult Paint Night / Pottery Experience				\n				\n				\n				\n					\n	\n\n		\n		\n		\n\n		\n\n		\n\n\n\n	Tickets\n\n		\n	\n	\n		The numbers below include tickets for this event already in your cart. Clicking "Get Tickets" will allow you to edit any existing attendee information as well as change ticket quantities.	\n\n\n		\n\n	\n		\n				Paint and Pottery Night	\n\n\n\n	\n		\n		$30.00			\n\n\n	\n\n\n	\n	 20  available\n\n\n	\n\n\n	\n					\n\n	\n		Quantity	\n	\n\n			\n\n	\n		\n	\n\n\n		\n\n	\n	\n	\n		Quantity:	\n	0\n\n\n	\n	\n		Total:	\n	\n		$0.00	\n\n\n	Get Tickets\n\n		\n				\n	\n\n\n		\n		\n	\n	\n\n	\n	\n\n	\n	\n\n\n\n			\n\n	\n\n\n				\n				\n				\n				\n					Share this event!				\n				\n				\n				\n							\n								\n						\n															\n															\n																						\n																			\n										Facebook									\n																	\n													\n					\n									\n						\n															\n															\n																						\n																			\n										Threads									\n																	\n													\n					\n									\n						\n															\n															\n																						\n																			\n										Pinterest									\n																	\n													\n					\n									\n						\n															\n															\n																						\n																			\n										LinkedIn									\n																	\n													\n					\n									\n						\n															\n															\n																						\n																			\n										X									\n																	\n													\n					\n									\n						\n															\n															\n																						\n																			\n										Email									\n																	\n													\n					\n						\n						\n				\n					\n		\n					\n		\n				\n						\n					\n			\n						\n				\n																														\n				\n				\n				\n					Event Details...				\n				\n				\n				\n									Come get a little muddy and make something beautiful.  In this hands-on pottery experience\, you’ll create your own flower-shaped or leaf-inspired bowl using easy\, beginner-friendly hand-building techniques. Our artist will guide you you step-by-step as you shape\, texture\, and personalize your bowl. Perfect for a fun night out\, a creative reset\, or a “I can’t believe I made that!” moment. All pieces will be glazed and fired to make them food-safe! No experience needed—just bring your imagination. 								\n				\n				\n				\n									Your Experience Cost: $30.00 per person (Includes materials and process: clay experience\, paint/glazing\, and firing) 								\n				\n				\n				\n									✨ What Happens Next With Your Creation ✨ 🎨 Finishing Process • Your pieces will journey to our professional studio • Our artisans will carefully glaze and fire your creation • Each piece receives special attention to ensure lasting quality 📦 Easy Pick-Up • Return to the same venue in 3-4 weeks • We’ll notify you when your piece is ready • Pick up your finished masterpiece where the magic began! 🏆 Quality You Can Trust • 100% food and liquid safe • Microwave friendly • Dishwasher safe • Built to last for years of enjoyment 								\n				\n				\n				\n									Before and During the Event: – Arrive 10 minutes before your scheduled time and check in with us.– Wear clothing and shoes that can get dirty.– Remove jewelry from wrists and fingers before starting.– A full menu will be available for purchase\, and you can eat and drink during your experience. After the Event: – Your pieces will be taken to our studio to be glazed and fired.– Finished pieces will be microwave\, dishwasher\, food\, and liquid safe.– Pieces will be delivered back to the venue where you created your pottery within 3-4 weeks. Important Details to Keep in Mind: – Each piece will be unique in shape and size.– Our team will guide you through the process\, but pottery can be unpredictable.– There’s a small chance that your piece might not survive the drying\, transportation\, or firing process. If this happens\, our skilled artisan will create a new piece for you.– In this event\, you’ll be using hand-building techniques to create your pottery\, which means you’ll be shaping and molding the clay with your hands\, rather than using a potter’s wheel. Let’s get creative and have fun! 								\n				\n					\n		\n					\n		\n				\n						\n					\n			\n						\n				\n					Date and Venue				\n				\n				\n				\n					\n		\n			July 23\n\n	\n\n	  @  \n\n\n6:00 pm\n\n		\n\n\n\n	\n	  -  \n\n8:00 pm\n\n\n\n	\n				\n				\n				\n				\n					\n				\n				\n	\n			\n		Moosic Lakes Club House			\n	\n	\n	\n\n25 Beach House Road\n	\n		\n		Jefferson Township\,\n\n	PA\n\n	18436\n\n	United States\n\n\n\n\n	+ Google Map \n\n\n	\n					\n						\n	 \n\n\n	\n	 \n\n\n\n	\n\n\n\n		\n	\n				\n				\n					\n		\n				\n			\n						\n				\n					Organizer				\n				\n				\n				\n					\n	\n			\n			Experience Pottery			\n	\n\n	\n	\n					\n			607 414 2062			\n	 \n\n\n	View Organizer Website \n\n\n	\n					\n			experiencepottery@outlook.com
URL:https://experiencepottery.com/event/make-your-own-pottery-with-hand-building-techniques-groove-brewing/
LOCATION:Groove Brewing\, 1401 Sanderson Ave\, Scranton\, PA\, 18509\, United States
CATEGORIES:Hand-Building Techniques,Make your Own Pottery,Pottery for Wellness,Pottery Therapy
ATTACH;FMTTYPE=image/png:https://experiencepottery.com/wp-content/uploads/2023/09/4_20231119_045123_0003.png
ORGANIZER;CN="Experience Pottery":MAILTO:experiencepottery@outlook.com
END:VEVENT
END:VCALENDAR