BEGIN:VCALENDAR
VERSION:2.0
PRODID:-//Experience Pottery - ECPv6.15.20//NONSGML v1.0//EN
CALSCALE:GREGORIAN
METHOD:PUBLISH
X-ORIGINAL-URL:https://experiencepottery.com
X-WR-CALDESC:Events for Experience Pottery
REFRESH-INTERVAL;VALUE=DURATION:PT1H
X-Robots-Tag:noindex
X-PUBLISHED-TTL:PT1H
BEGIN:VTIMEZONE
TZID:America/New_York
BEGIN:DAYLIGHT
TZOFFSETFROM:-0500
TZOFFSETTO:-0400
TZNAME:EDT
DTSTART:20240310T070000
END:DAYLIGHT
BEGIN:STANDARD
TZOFFSETFROM:-0400
TZOFFSETTO:-0500
TZNAME:EST
DTSTART:20241103T060000
END:STANDARD
BEGIN:DAYLIGHT
TZOFFSETFROM:-0500
TZOFFSETTO:-0400
TZNAME:EDT
DTSTART:20250309T070000
END:DAYLIGHT
BEGIN:STANDARD
TZOFFSETFROM:-0400
TZOFFSETTO:-0500
TZNAME:EST
DTSTART:20251102T060000
END:STANDARD
BEGIN:DAYLIGHT
TZOFFSETFROM:-0500
TZOFFSETTO:-0400
TZNAME:EDT
DTSTART:20260308T070000
END:DAYLIGHT
BEGIN:STANDARD
TZOFFSETFROM:-0400
TZOFFSETTO:-0500
TZNAME:EST
DTSTART:20261101T060000
END:STANDARD
END:VTIMEZONE
BEGIN:VEVENT
DTSTART;TZID=America/New_York:20251011T153000
DTEND;TZID=America/New_York:20251011T173000
DTSTAMP:20260423T201209
CREATED:20250928T125618Z
LAST-MODIFIED:20250928T131103Z
UID:10000100-1760196600-1760203800@experiencepottery.com
SUMMARY:Pottery Serving Dish @Kailin of Earth
DESCRIPTION:Pumpkin Dish at Kailin of Earth \nPottery Workshop: Pumpkin Dish \nSat\, Oct 11 | Kailin of Earth Studio \n\nBUY YOUR TICKETS HERE >>> https://www.facebook.com/share/1BXMhzi1no/ <<< \n\nJoin Experience Pottery for a delightful autumn pottery experience that will add handmade charm to your dinner table this fall season! \nStudio for a delightful autumn pottery experience that will add handmade charm to your dinner table this fall season! \n✨ What You’ll Create: \nUsing traditional hand-building techniques\, you’ll craft a stunning ceramic pumpkin plate that’s perfect for your fall table décor. Whether you envision a classic orange gourd or want to explore unique glazes and textures\, this experience is designed to bring your autumn vision to life! \n🍂 Your Experience Includes: \n– Expert guidance through hand-building pottery techniques \n– All clay\, tools\, and materials provided \n– Professional firing and glazing of your masterpiece \n– A relaxing\, creative atmosphere perfect for embracing the season \nPerfect for date nights\, friends’ outings\, solo creative time\, or anyone wanting to add a personal touch to their fall decorating \nYour finished ceramic pumpkin dish will be ready for pickup in 3-4 weeks\, just in time to grace your Thanksgiving table! Each piece will be food-safe\, microwave\, and dishwasher friendly. \nReserve your spot today and let’s create something beautiful together! 🧡 \nYour Experience Cost: $60 per person \n(Includes materials and process: clay experience\, paint/glazing\, and firing) \n✨ What Happens Next With Your Creation ✨ \n🎨 Finishing Process • Your pieces will journey to our professional studio • Our artisans will carefully glaze and fire your creation • Each piece receives special attention to ensure lasting quality \n🏆 Quality You Can Trust • 100% food and liquid safe • Microwave friendly • Dishwasher safe • Built to last for years of enjoyment \n📦 Easy Pick-Up • Return to Matterns Floral Cafe in 3-4 weeks • We’ll notify you when your piece is ready • Pick up your finished masterpiece where the magic began! \nBefore and During the Event: \n– Arrive 10 minutes before your scheduled time and check in with us.– Wear clothing and shoes that can get dirty.– Remove jewelry from wrists and fingers before starting.– A full menu will be available for purchase\, and you can eat and drink during your experience. \nAfter the Event: \n– Your pieces will be taken to our studio to be glazed and fired.– Finished pieces will be microwave\, dishwasher\, food\, and liquid safe.– Pieces will be delivered back to the venue where you created your pottery within 3-4 weeks. \nImportant Details to Keep in Mind: \n– Each piece will be unique in shape and size.– Our team will guide you through the process\, but pottery can be unpredictable.– There’s a small chance that your piece might not survive the drying\, transportation\, or firing process. If this happens\, our skilled artisan will create a new piece for you.– In this event\, you’ll be using hand-building techniques to create your pottery\, which means you’ll be shaping and molding the clay with your hands\, rather than using a potter’s wheel. \nCancellation Policy: \nIf you need to cancel your ticket\, please contact us at experiencepottery@outlook.com / (607) 414 2062 at least 7 days prior to the event date. \n\nCancellations received within the specified time frame will be eligible for a full refund.\nCancellations received after the specified time frame will not be eligible for a refund.\nIf you are unable to attend you can transfer your ticket to a friend. Please send an email to experiencepottery@outlook.com or text us (607) 414 2062 to provide the name of the person attending.\nRead our full cancellation policy here >>> https://experiencepottery.com/cancellation-policy/\nBy purchasing a ticket\, you agree to this cancellation and refund policy.\n\nContact Us: \n– Website: www.experiencepottery.com– Email: experiencepottery@outlook.com– Phone: (607) 414-2062 \nLet’s get creative and have fun! \nDETAILS AND VENUE\n			October 11\n	  @\n3:30 pm\n	  –\n5:30 pm \n\n			\n		Kailin of Earth Studio			\n	\n\n1170 Winola Rd\n		\n		Clarks Summit\,\n	PA\n	18411\n	United States\n\n\n	+ Google Map \n\n					\n						\n	 \n\n	View Venue Website \n\n \nORGANIZER\n\n	Related Events\n\n\n	\n		 \n\n	\n		Pottery Maple Leaf Experience 🍁	\n\n\n	October 22 @ 6:00 pm – 8:00 pm \n\n\n	\n		 \n\n	\n		Pottery Experience Gift Card	\n\n\n	December 31 \n\n\nInvite a friend\, Invite them all!\n										Facebook\n										Threads\n										Pinterest\n										LinkedIn\n										X\n										Email
URL:https://experiencepottery.com/event/pottery-serving-dish-kailin-of-earth/
LOCATION:Kailin of Earth Studio\, 1170 Winola Rd\, Clarks Summit\, PA\, 18411\, United States
CATEGORIES:Family Fun Experience,Hand-Building Techniques,Make your Own Pottery,Paint your own Pottery,Pottery for Wellness,Pottery Therapy
ATTACH;FMTTYPE=image/jpeg:https://experiencepottery.com/wp-content/uploads/2025/09/FB_IMG_1759063830645.jpg
END:VEVENT
END:VCALENDAR